

BEGIN:VCALENDAR
VERSION:2.0
PRODID:-//Frauengemeinschaft Siebnen - ECPv6.15.15//NONSGML v1.0//EN
CALSCALE:GREGORIAN
METHOD:PUBLISH
X-WR-CALNAME:Frauengemeinschaft Siebnen
X-ORIGINAL-URL:https://fgsiebnen.ch
X-WR-CALDESC:Veranstaltungen für Frauengemeinschaft Siebnen
REFRESH-INTERVAL;VALUE=DURATION:PT1H
X-Robots-Tag:noindex
X-PUBLISHED-TTL:PT1H
BEGIN:VTIMEZONE
TZID:Europe/Zurich
BEGIN:DAYLIGHT
TZOFFSETFROM:+0100
TZOFFSETTO:+0200
TZNAME:CEST
DTSTART:20250330T010000
END:DAYLIGHT
BEGIN:STANDARD
TZOFFSETFROM:+0200
TZOFFSETTO:+0100
TZNAME:CET
DTSTART:20251026T010000
END:STANDARD
BEGIN:DAYLIGHT
TZOFFSETFROM:+0100
TZOFFSETTO:+0200
TZNAME:CEST
DTSTART:20260329T010000
END:DAYLIGHT
BEGIN:STANDARD
TZOFFSETFROM:+0200
TZOFFSETTO:+0100
TZNAME:CET
DTSTART:20261025T010000
END:STANDARD
BEGIN:DAYLIGHT
TZOFFSETFROM:+0100
TZOFFSETTO:+0200
TZNAME:CEST
DTSTART:20270328T010000
END:DAYLIGHT
BEGIN:STANDARD
TZOFFSETFROM:+0200
TZOFFSETTO:+0100
TZNAME:CET
DTSTART:20271031T010000
END:STANDARD
END:VTIMEZONE
BEGIN:VEVENT
DTSTART;TZID=Europe/Zurich:20260603T170000
DTEND;TZID=Europe/Zurich:20260603T183000
DTSTAMP:20260421T142606
CREATED:20240323T200812Z
LAST-MODIFIED:20260309T085035Z
UID:1936-1780506000-1780511400@fgsiebnen.ch
SUMMARY:Blumen bringen und binden für Fronleichnam
DESCRIPTION:
URL:https://fgsiebnen.ch/veranstaltung/blumen-bringen-und-binden-fuer-fronleichnam-2/
LOCATION:Wohn/Pflegezentrum Stockberg\, Stockbergstrasse 9\, Siebnen\, Schwyz\, 8854\, Schweiz
END:VEVENT
BEGIN:VEVENT
DTSTART;TZID=Europe/Zurich:20260604T090000
DTEND;TZID=Europe/Zurich:20260604T103000
DTSTAMP:20260421T142607
CREATED:20240318T170009Z
LAST-MODIFIED:20260309T085304Z
UID:1940-1780563600-1780569000@fgsiebnen.ch
SUMMARY:Fronleichnam Gottesdienst
DESCRIPTION:
URL:https://fgsiebnen.ch/veranstaltung/fronleichnam-gottesdienst/
LOCATION:Wohn/Pflegezentrum Stockberg\, Stockbergstrasse 9\, Siebnen\, Schwyz\, 8854\, Schweiz
END:VEVENT
BEGIN:VEVENT
DTSTART;TZID=Europe/Zurich:20260611T140000
DTEND;TZID=Europe/Zurich:20260611T170000
DTSTAMP:20260421T142607
CREATED:20240309T211229Z
LAST-MODIFIED:20260306T090941Z
UID:1317-1781186400-1781197200@fgsiebnen.ch
SUMMARY:Spielnachmittag im Wohn / Pflegezentrum Stockberg
DESCRIPTION:ab 14.00 Uhr spielen und plaudern wir gemeinsam\, bei Kaffee und Kuchen.
URL:https://fgsiebnen.ch/veranstaltung/spielnachmittag-im-wohn-pflegezentrum-stockberg/
END:VEVENT
BEGIN:VEVENT
DTSTART;TZID=Europe/Zurich:20260617T140000
DTEND;TZID=Europe/Zurich:20260617T220000
DTSTAMP:20260421T142607
CREATED:20260309T090054Z
LAST-MODIFIED:20260331T131844Z
UID:3852-1781704800-1781733600@fgsiebnen.ch
SUMMARY:Zippo Erste Hilfe Kurs
DESCRIPTION:Nachmittags für Kinder und abends für Erwachsene \nAnmeldungen bis 5. Juni 2026 An Manuela Benkö 078 907 84 47
URL:https://fgsiebnen.ch/veranstaltung/zippo-erste-hilfe-kurs/
LOCATION:Pfarrsaal katholische Kirche
END:VEVENT
BEGIN:VEVENT
DTSTART;TZID=Europe/Zurich:20260625T140000
DTEND;TZID=Europe/Zurich:20260625T170000
DTSTAMP:20260421T142607
CREATED:20250820T082247Z
LAST-MODIFIED:20260306T091021Z
UID:3225-1782396000-1782406800@fgsiebnen.ch
SUMMARY:Spielnachmittag im Wohn / Pflegezentrum Stockberg
DESCRIPTION:ab 14.00 Uhr spielen und plaudern wir gemeinsam\, bei Kaffee und Kuchen. \n 
URL:https://fgsiebnen.ch/veranstaltung/spielnachmittag-im-wohn-pflegezentrum-stockberg-6/
END:VEVENT
END:VCALENDAR