

BEGIN:VCALENDAR
VERSION:2.0
PRODID:-//Frauengemeinschaft Siebnen - ECPv6.15.15//NONSGML v1.0//EN
CALSCALE:GREGORIAN
METHOD:PUBLISH
X-WR-CALNAME:Frauengemeinschaft Siebnen
X-ORIGINAL-URL:https://fgsiebnen.ch
X-WR-CALDESC:Veranstaltungen für Frauengemeinschaft Siebnen
REFRESH-INTERVAL;VALUE=DURATION:PT1H
X-Robots-Tag:noindex
X-PUBLISHED-TTL:PT1H
BEGIN:VTIMEZONE
TZID:Europe/Zurich
BEGIN:DAYLIGHT
TZOFFSETFROM:+0100
TZOFFSETTO:+0200
TZNAME:CEST
DTSTART:20250330T010000
END:DAYLIGHT
BEGIN:STANDARD
TZOFFSETFROM:+0200
TZOFFSETTO:+0100
TZNAME:CET
DTSTART:20251026T010000
END:STANDARD
BEGIN:DAYLIGHT
TZOFFSETFROM:+0100
TZOFFSETTO:+0200
TZNAME:CEST
DTSTART:20260329T010000
END:DAYLIGHT
BEGIN:STANDARD
TZOFFSETFROM:+0200
TZOFFSETTO:+0100
TZNAME:CET
DTSTART:20261025T010000
END:STANDARD
BEGIN:DAYLIGHT
TZOFFSETFROM:+0100
TZOFFSETTO:+0200
TZNAME:CEST
DTSTART:20270328T010000
END:DAYLIGHT
BEGIN:STANDARD
TZOFFSETFROM:+0200
TZOFFSETTO:+0100
TZNAME:CET
DTSTART:20271031T010000
END:STANDARD
END:VTIMEZONE
BEGIN:VEVENT
DTSTART;TZID=Europe/Zurich:20260306T190000
DTEND;TZID=Europe/Zurich:20260306T190000
DTSTAMP:20260421T130854
CREATED:20250204T080908Z
LAST-MODIFIED:20260121T140454Z
UID:2811-1772823600-1772823600@fgsiebnen.ch
SUMMARY:Weltgebetstag in Tuggen
DESCRIPTION:19.00 Uhr Pfarrkirche Tuggen
URL:https://fgsiebnen.ch/veranstaltung/weltgebetstag-in-wangen/
END:VEVENT
BEGIN:VEVENT
DTSTART;TZID=Europe/Zurich:20260309T140000
DTEND;TZID=Europe/Zurich:20260309T170000
DTSTAMP:20260421T130854
CREATED:20260121T141936Z
LAST-MODIFIED:20260222T165127Z
UID:3726-1773064800-1773075600@fgsiebnen.ch
SUMMARY:Lotto Match
DESCRIPTION:
URL:https://fgsiebnen.ch/veranstaltung/lotto-match/
LOCATION:Foyer Stockberg
END:VEVENT
BEGIN:VEVENT
DTSTART;VALUE=DATE:20260311
DTEND;VALUE=DATE:20260312
DTSTAMP:20260421T130854
CREATED:20240309T212057Z
LAST-MODIFIED:20260222T165207Z
UID:1618-1773187200-1773273599@fgsiebnen.ch
SUMMARY:Besinnungstag in Quarten
DESCRIPTION:
URL:https://fgsiebnen.ch/veranstaltung/besinnungstag-in-quarten/
END:VEVENT
BEGIN:VEVENT
DTSTART;TZID=Europe/Zurich:20260313T190000
DTEND;TZID=Europe/Zurich:20260320T190000
DTSTAMP:20260421T130854
CREATED:20250204T082115Z
LAST-MODIFIED:20260207T085434Z
UID:2817-1773428400-1774033200@fgsiebnen.ch
SUMMARY:Fastenwoche
DESCRIPTION:
URL:https://fgsiebnen.ch/veranstaltung/fastenwoche/
END:VEVENT
BEGIN:VEVENT
DTSTART;TZID=Europe/Zurich:20260318T080000
DTEND;TZID=Europe/Zurich:20260321T170000
DTSTAMP:20260421T130854
CREATED:20260121T142130Z
LAST-MODIFIED:20260216T075925Z
UID:3730-1773820800-1774112400@fgsiebnen.ch
SUMMARY:Babysitting Kurs SRK
DESCRIPTION:
URL:https://fgsiebnen.ch/veranstaltung/babysitting-kurs-srk/
LOCATION:Pfarrsaal katholische Kirche Siebnen
END:VEVENT
BEGIN:VEVENT
DTSTART;TZID=Europe/Zurich:20260319T140000
DTEND;TZID=Europe/Zurich:20260319T170000
DTSTAMP:20260421T130854
CREATED:20250820T082330Z
LAST-MODIFIED:20260121T161751Z
UID:3227-1773928800-1773939600@fgsiebnen.ch
SUMMARY:Spielnachmittag im Wohn / Pflegezentrum Stockberg
DESCRIPTION:ab 14.00 Uhr spielen und plaudern wir gemeinsam\, bei Kaffee und Kuchen.
URL:https://fgsiebnen.ch/veranstaltung/spielnachmittag-im-wohn-pflegezentrum/
END:VEVENT
BEGIN:VEVENT
DTSTART;TZID=Europe/Zurich:20260325T140000
DTEND;TZID=Europe/Zurich:20260325T170000
DTSTAMP:20260421T130854
CREATED:20250204T082256Z
LAST-MODIFIED:20260306T091839Z
UID:2819-1774447200-1774458000@fgsiebnen.ch
SUMMARY:Osterbasteln für Kinder
DESCRIPTION:
URL:https://fgsiebnen.ch/veranstaltung/osterbasteln-fuer-kinder/
END:VEVENT
END:VCALENDAR