

BEGIN:VCALENDAR
VERSION:2.0
PRODID:-//Frauengemeinschaft Siebnen - ECPv6.15.15//NONSGML v1.0//EN
CALSCALE:GREGORIAN
METHOD:PUBLISH
X-WR-CALNAME:Frauengemeinschaft Siebnen
X-ORIGINAL-URL:https://fgsiebnen.ch
X-WR-CALDESC:Veranstaltungen für Frauengemeinschaft Siebnen
REFRESH-INTERVAL;VALUE=DURATION:PT1H
X-Robots-Tag:noindex
X-PUBLISHED-TTL:PT1H
BEGIN:VTIMEZONE
TZID:Europe/Zurich
BEGIN:DAYLIGHT
TZOFFSETFROM:+0100
TZOFFSETTO:+0200
TZNAME:CEST
DTSTART:20230326T010000
END:DAYLIGHT
BEGIN:STANDARD
TZOFFSETFROM:+0200
TZOFFSETTO:+0100
TZNAME:CET
DTSTART:20231029T010000
END:STANDARD
BEGIN:DAYLIGHT
TZOFFSETFROM:+0100
TZOFFSETTO:+0200
TZNAME:CEST
DTSTART:20240331T010000
END:DAYLIGHT
BEGIN:STANDARD
TZOFFSETFROM:+0200
TZOFFSETTO:+0100
TZNAME:CET
DTSTART:20241027T010000
END:STANDARD
BEGIN:DAYLIGHT
TZOFFSETFROM:+0100
TZOFFSETTO:+0200
TZNAME:CEST
DTSTART:20250330T010000
END:DAYLIGHT
BEGIN:STANDARD
TZOFFSETFROM:+0200
TZOFFSETTO:+0100
TZNAME:CET
DTSTART:20251026T010000
END:STANDARD
END:VTIMEZONE
BEGIN:VEVENT
DTSTART;TZID=Europe/Zurich:20240605T191500
DTEND;TZID=Europe/Zurich:20240605T220000
DTSTAMP:20260422T195337
CREATED:20240326T163414Z
LAST-MODIFIED:20240516T074019Z
UID:2095-1717614900-1717624800@fgsiebnen.ch
SUMMARY:Spargelschiff Ausgebucht!
DESCRIPTION:gemeinsam mit den Obermärchler Frauenvereinen \nTreffpunkt um 19.15 Uhr beim Schiffsteg Bad in Schmerikon \nAnmeldung bis 15. Mai 2024 \nbei Sonja Gschwend: 079 384 46 43
URL:https://fgsiebnen.ch/veranstaltung/spargelschiff/
END:VEVENT
END:VCALENDAR