

BEGIN:VCALENDAR
VERSION:2.0
PRODID:-//Frauengemeinschaft Siebnen - ECPv6.15.15//NONSGML v1.0//EN
CALSCALE:GREGORIAN
METHOD:PUBLISH
X-WR-CALNAME:Frauengemeinschaft Siebnen
X-ORIGINAL-URL:https://fgsiebnen.ch
X-WR-CALDESC:Veranstaltungen für Frauengemeinschaft Siebnen
REFRESH-INTERVAL;VALUE=DURATION:PT1H
X-Robots-Tag:noindex
X-PUBLISHED-TTL:PT1H
BEGIN:VTIMEZONE
TZID:Europe/Zurich
BEGIN:DAYLIGHT
TZOFFSETFROM:+0100
TZOFFSETTO:+0200
TZNAME:CEST
DTSTART:20230326T010000
END:DAYLIGHT
BEGIN:STANDARD
TZOFFSETFROM:+0200
TZOFFSETTO:+0100
TZNAME:CET
DTSTART:20231029T010000
END:STANDARD
BEGIN:DAYLIGHT
TZOFFSETFROM:+0100
TZOFFSETTO:+0200
TZNAME:CEST
DTSTART:20240331T010000
END:DAYLIGHT
BEGIN:STANDARD
TZOFFSETFROM:+0200
TZOFFSETTO:+0100
TZNAME:CET
DTSTART:20241027T010000
END:STANDARD
BEGIN:DAYLIGHT
TZOFFSETFROM:+0100
TZOFFSETTO:+0200
TZNAME:CEST
DTSTART:20250330T010000
END:DAYLIGHT
BEGIN:STANDARD
TZOFFSETFROM:+0200
TZOFFSETTO:+0100
TZNAME:CET
DTSTART:20251026T010000
END:STANDARD
END:VTIMEZONE
BEGIN:VEVENT
DTSTART;TZID=Europe/Zurich:20240515T180000
DTEND;TZID=Europe/Zurich:20240515T220000
DTSTAMP:20260422T212327
CREATED:20240515T120556Z
LAST-MODIFIED:20240516T195928Z
UID:2131-1715796000-1715810400@fgsiebnen.ch
SUMMARY:Pétanque Spiel für Frauen und Männer
DESCRIPTION:in Lachen beim Seeplatz 18.00 Uhr \nAnmeldung bis 8. Mai: \nbei Petra Mächler 055 440 88 14
URL:https://fgsiebnen.ch/veranstaltung/petanque-spiel-fuer-frauen-und-maenner/
END:VEVENT
END:VCALENDAR