

BEGIN:VCALENDAR
VERSION:2.0
PRODID:-//Frauengemeinschaft Siebnen - ECPv6.15.15//NONSGML v1.0//EN
CALSCALE:GREGORIAN
METHOD:PUBLISH
X-WR-CALNAME:Frauengemeinschaft Siebnen
X-ORIGINAL-URL:https://fgsiebnen.ch
X-WR-CALDESC:Veranstaltungen für Frauengemeinschaft Siebnen
REFRESH-INTERVAL;VALUE=DURATION:PT1H
X-Robots-Tag:noindex
X-PUBLISHED-TTL:PT1H
BEGIN:VTIMEZONE
TZID:Europe/Zurich
BEGIN:DAYLIGHT
TZOFFSETFROM:+0100
TZOFFSETTO:+0200
TZNAME:CEST
DTSTART:20240331T010000
END:DAYLIGHT
BEGIN:STANDARD
TZOFFSETFROM:+0200
TZOFFSETTO:+0100
TZNAME:CET
DTSTART:20241027T010000
END:STANDARD
BEGIN:DAYLIGHT
TZOFFSETFROM:+0100
TZOFFSETTO:+0200
TZNAME:CEST
DTSTART:20250330T010000
END:DAYLIGHT
BEGIN:STANDARD
TZOFFSETFROM:+0200
TZOFFSETTO:+0100
TZNAME:CET
DTSTART:20251026T010000
END:STANDARD
BEGIN:DAYLIGHT
TZOFFSETFROM:+0100
TZOFFSETTO:+0200
TZNAME:CEST
DTSTART:20260329T010000
END:DAYLIGHT
BEGIN:STANDARD
TZOFFSETFROM:+0200
TZOFFSETTO:+0100
TZNAME:CET
DTSTART:20261025T010000
END:STANDARD
BEGIN:DAYLIGHT
TZOFFSETFROM:+0100
TZOFFSETTO:+0200
TZNAME:CEST
DTSTART:20270328T010000
END:DAYLIGHT
BEGIN:STANDARD
TZOFFSETFROM:+0200
TZOFFSETTO:+0100
TZNAME:CET
DTSTART:20271031T010000
END:STANDARD
END:VTIMEZONE
BEGIN:VEVENT
DTSTART;TZID=Europe/Zurich:20260422T183000
DTEND;TZID=Europe/Zurich:20260422T210000
DTSTAMP:20260423T102519
CREATED:20260121T161245Z
LAST-MODIFIED:20260121T161245Z
UID:3737-1776882600-1776891600@fgsiebnen.ch
SUMMARY:Bowling in Niederurnen
DESCRIPTION:zusammen mit den Frauengemeinschaften  der Region Obermarch \nTreffpunkt 18.30 Uhr beim Adlerplatz in Schübelbach \nAnmeldung bis 15. April 2026 bei Gabi Kühne 079 478 68 44 (Frauengemeinschaft Schübelbach)
URL:https://fgsiebnen.ch/veranstaltung/bowling-in-niederurnen/
END:VEVENT
BEGIN:VEVENT
DTSTART;TZID=Europe/Zurich:20260417T000000
DTEND;TZID=Europe/Zurich:20260418T000000
DTSTAMP:20260423T102519
CREATED:20260121T142707Z
LAST-MODIFIED:20260417T092504Z
UID:3733-1776384000-1776470400@fgsiebnen.ch
SUMMARY:Velobörse
DESCRIPTION:
URL:https://fgsiebnen.ch/veranstaltung/veloboerse/
END:VEVENT
BEGIN:VEVENT
DTSTART;TZID=Europe/Zurich:20260416T140000
DTEND;TZID=Europe/Zurich:20260416T170000
DTSTAMP:20260423T102519
CREATED:20240412T075559Z
LAST-MODIFIED:20260121T161943Z
UID:2190-1776348000-1776358800@fgsiebnen.ch
SUMMARY:Spielnachmittag im Wohn / Pflegezentrum Stockberg
DESCRIPTION:ab 14.00 Uhr spielen und plaudern wir gemeinsam\, bei Kaffee und Kuchen.
URL:https://fgsiebnen.ch/veranstaltung/spielnachmittag-im-wohn-pflegezentrum-stockberg-3/
END:VEVENT
BEGIN:VEVENT
DTSTART;TZID=Europe/Zurich:20260415T140000
DTEND;TZID=Europe/Zurich:20260415T163000
DTSTAMP:20260423T102519
CREATED:20250416T071735Z
LAST-MODIFIED:20260326T081509Z
UID:2990-1776261600-1776270600@fgsiebnen.ch
SUMMARY:Kasperlitheater
DESCRIPTION: 
URL:https://fgsiebnen.ch/veranstaltung/kasperlitheater/
LOCATION:Pfarrsaal katholische Kirche Siebnen
END:VEVENT
BEGIN:VEVENT
DTSTART;TZID=Europe/Zurich:20260402T193000
DTEND;TZID=Europe/Zurich:20260402T203000
DTSTAMP:20260423T102519
CREATED:20250204T082351Z
LAST-MODIFIED:20260331T130624Z
UID:2821-1775158200-1775161800@fgsiebnen.ch
SUMMARY:Gründonnerstag Gottesdienst
DESCRIPTION:Pfarrkirche Siebnen 19.30 Uhr
URL:https://fgsiebnen.ch/veranstaltung/gruendonnerstag-gottesdienst/
END:VEVENT
BEGIN:VEVENT
DTSTART;TZID=Europe/Zurich:20260402T140000
DTEND;TZID=Europe/Zurich:20260402T170000
DTSTAMP:20260423T102519
CREATED:20240412T075451Z
LAST-MODIFIED:20260121T161856Z
UID:2187-1775138400-1775149200@fgsiebnen.ch
SUMMARY:Spielnachmittag im Wohn / Pflegezentrum Stockberg
DESCRIPTION:ab 14.00 Uhr spielen und plaudern wir gemeinsam\, bei Kaffee und Kuchen.
URL:https://fgsiebnen.ch/veranstaltung/spielnachmittag/
END:VEVENT
BEGIN:VEVENT
DTSTART;TZID=Europe/Zurich:20260325T140000
DTEND;TZID=Europe/Zurich:20260325T170000
DTSTAMP:20260423T102519
CREATED:20250204T082256Z
LAST-MODIFIED:20260306T091839Z
UID:2819-1774447200-1774458000@fgsiebnen.ch
SUMMARY:Osterbasteln für Kinder
DESCRIPTION:
URL:https://fgsiebnen.ch/veranstaltung/osterbasteln-fuer-kinder/
END:VEVENT
BEGIN:VEVENT
DTSTART;TZID=Europe/Zurich:20260319T140000
DTEND;TZID=Europe/Zurich:20260319T170000
DTSTAMP:20260423T102519
CREATED:20250820T082330Z
LAST-MODIFIED:20260121T161751Z
UID:3227-1773928800-1773939600@fgsiebnen.ch
SUMMARY:Spielnachmittag im Wohn / Pflegezentrum Stockberg
DESCRIPTION:ab 14.00 Uhr spielen und plaudern wir gemeinsam\, bei Kaffee und Kuchen.
URL:https://fgsiebnen.ch/veranstaltung/spielnachmittag-im-wohn-pflegezentrum/
END:VEVENT
BEGIN:VEVENT
DTSTART;TZID=Europe/Zurich:20260318T080000
DTEND;TZID=Europe/Zurich:20260321T170000
DTSTAMP:20260423T102519
CREATED:20260121T142130Z
LAST-MODIFIED:20260216T075925Z
UID:3730-1773820800-1774112400@fgsiebnen.ch
SUMMARY:Babysitting Kurs SRK
DESCRIPTION:
URL:https://fgsiebnen.ch/veranstaltung/babysitting-kurs-srk/
LOCATION:Pfarrsaal katholische Kirche Siebnen
END:VEVENT
BEGIN:VEVENT
DTSTART;TZID=Europe/Zurich:20260313T190000
DTEND;TZID=Europe/Zurich:20260320T190000
DTSTAMP:20260423T102519
CREATED:20250204T082115Z
LAST-MODIFIED:20260207T085434Z
UID:2817-1773428400-1774033200@fgsiebnen.ch
SUMMARY:Fastenwoche
DESCRIPTION:
URL:https://fgsiebnen.ch/veranstaltung/fastenwoche/
END:VEVENT
BEGIN:VEVENT
DTSTART;VALUE=DATE:20260311
DTEND;VALUE=DATE:20260312
DTSTAMP:20260423T102519
CREATED:20240309T212057Z
LAST-MODIFIED:20260222T165207Z
UID:1618-1773187200-1773273599@fgsiebnen.ch
SUMMARY:Besinnungstag in Quarten
DESCRIPTION:
URL:https://fgsiebnen.ch/veranstaltung/besinnungstag-in-quarten/
END:VEVENT
BEGIN:VEVENT
DTSTART;TZID=Europe/Zurich:20260309T140000
DTEND;TZID=Europe/Zurich:20260309T170000
DTSTAMP:20260423T102519
CREATED:20260121T141936Z
LAST-MODIFIED:20260222T165127Z
UID:3726-1773064800-1773075600@fgsiebnen.ch
SUMMARY:Lotto Match
DESCRIPTION:
URL:https://fgsiebnen.ch/veranstaltung/lotto-match/
LOCATION:Foyer Stockberg
END:VEVENT
BEGIN:VEVENT
DTSTART;TZID=Europe/Zurich:20260306T190000
DTEND;TZID=Europe/Zurich:20260306T190000
DTSTAMP:20260423T102519
CREATED:20250204T080908Z
LAST-MODIFIED:20260121T140454Z
UID:2811-1772823600-1772823600@fgsiebnen.ch
SUMMARY:Weltgebetstag in Tuggen
DESCRIPTION:19.00 Uhr Pfarrkirche Tuggen
URL:https://fgsiebnen.ch/veranstaltung/weltgebetstag-in-wangen/
END:VEVENT
BEGIN:VEVENT
DTSTART;TZID=Europe/Zurich:20260219T183000
DTEND;TZID=Europe/Zurich:20260219T203000
DTSTAMP:20260423T102519
CREATED:20240409T122146Z
LAST-MODIFIED:20251212T140049Z
UID:2139-1771525800-1771533000@fgsiebnen.ch
SUMMARY:Gottesdienst
DESCRIPTION:im Wohn-/Pflegezentrum 18.30 Uhr anschl. Kaffee und Kuchen
URL:https://fgsiebnen.ch/veranstaltung/gottesdienst/
END:VEVENT
BEGIN:VEVENT
DTSTART;TZID=Europe/Zurich:20260212T113000
DTEND;TZID=Europe/Zurich:20260212T170000
DTSTAMP:20260423T102519
CREATED:20241023T073705Z
LAST-MODIFIED:20260109T082756Z
UID:2592-1770895800-1770915600@fgsiebnen.ch
SUMMARY:Senioren Nachmittag
DESCRIPTION:im Foyer Stockberg  11.30 Uhr \nAnmeldung bis 1. Februar: \nRita Müller 055 440 35 84 \n 
URL:https://fgsiebnen.ch/veranstaltung/senioren-nachmittag/
LOCATION:Foyer Stockberg
END:VEVENT
BEGIN:VEVENT
DTSTART;TZID=Europe/Zurich:20260208T090000
DTEND;TZID=Europe/Zurich:20260208T090000
DTSTAMP:20260423T102519
CREATED:20250120T114434Z
LAST-MODIFIED:20251212T135838Z
UID:2746-1770541200-1770541200@fgsiebnen.ch
SUMMARY:Morgenkaffee
DESCRIPTION:nach dem 9.00 Uhr Gottesdienst im Pfarrsaal
URL:https://fgsiebnen.ch/veranstaltung/morgenkaffee-2/
END:VEVENT
BEGIN:VEVENT
DTSTART;TZID=Europe/Zurich:20260204T190000
DTEND;TZID=Europe/Zurich:20260204T190000
DTSTAMP:20260423T102519
CREATED:20250120T114802Z
LAST-MODIFIED:20251212T140547Z
UID:2749-1770231600-1770231600@fgsiebnen.ch
SUMMARY:Generalversammlung
DESCRIPTION:Es sind alle Mitglieder herzlich eingeladen\, schriftliche Einladung ist erfolgt.
URL:https://fgsiebnen.ch/veranstaltung/generalversammlung/
LOCATION:Foyer Stockberg
END:VEVENT
BEGIN:VEVENT
DTSTART;TZID=Europe/Zurich:20260130T183000
DTEND;TZID=Europe/Zurich:20260130T223000
DTSTAMP:20260423T102519
CREATED:20251212T140439Z
LAST-MODIFIED:20251222T151015Z
UID:3667-1769797800-1769812200@fgsiebnen.ch
SUMMARY:Kochkurs in Pfäffikon SZ
DESCRIPTION:Schulküche Römerrain\, Pfäffikon 18.30  bis 22.30 Uhr \nAnmeldung bis 22.Januar:  Anita Loher 079 560 82 35 \n 
URL:https://fgsiebnen.ch/veranstaltung/kochkurs-in-pfaeffikon-sz/
END:VEVENT
BEGIN:VEVENT
DTSTART;TZID=Europe/Zurich:20260115T193000
DTEND;TZID=Europe/Zurich:20260115T230000
DTSTAMP:20260423T102519
CREATED:20241210T084336Z
LAST-MODIFIED:20251212T135626Z
UID:2687-1768505400-1768518000@fgsiebnen.ch
SUMMARY:Gottesdienst
DESCRIPTION:Pfarrkirche 19.30 Uhr anschliessend Spiel- und Jassabend im Pfarrsaal
URL:https://fgsiebnen.ch/veranstaltung/gottesdienst-3/
END:VEVENT
BEGIN:VEVENT
DTSTART;TZID=Europe/Zurich:20251217T093000
DTEND;TZID=Europe/Zurich:20251217T103000
DTSTAMP:20260423T102519
CREATED:20251022T082105Z
LAST-MODIFIED:20251026T181217Z
UID:3223-1765963800-1765967400@fgsiebnen.ch
SUMMARY:Krabbelgruppe
DESCRIPTION:Schnuppern ist jederzeit möglich. Bitte meldet euch vorgängig (auch spontan) per Whatsapp bei Simone Mayer (079 913 47 89) \nMittwochs (ungerade Kalenderwochen) von 09.30 – 10.30 Uhr \nKeine Treffen in den Schulferien oder an Feiertagen
URL:https://fgsiebnen.ch/veranstaltung/krabbelgruppe-8/
END:VEVENT
BEGIN:VEVENT
DTSTART;TZID=Europe/Zurich:20251216T183000
DTEND;TZID=Europe/Zurich:20251216T183000
DTSTAMP:20260423T102519
CREATED:20241023T080219Z
LAST-MODIFIED:20251001T070416Z
UID:2608-1765909800-1765909800@fgsiebnen.ch
SUMMARY:Friedenslichtfeier
DESCRIPTION:Kirchplatz und Pfarrkirche 18.30 Uhr
URL:https://fgsiebnen.ch/veranstaltung/friedenslichtfeier/
END:VEVENT
BEGIN:VEVENT
DTSTART;TZID=Europe/Zurich:20251211T063000
DTEND;TZID=Europe/Zurich:20251211T063000
DTSTAMP:20260423T102519
CREATED:20241023T080115Z
LAST-MODIFIED:20251001T070338Z
UID:2606-1765434600-1765434600@fgsiebnen.ch
SUMMARY:Rorate Messe
DESCRIPTION:Pfarrkirche 6.30 Uhr \nanschliessend Frühstück im Pfarrsaal
URL:https://fgsiebnen.ch/veranstaltung/rorate-messe/
END:VEVENT
BEGIN:VEVENT
DTSTART;TZID=Europe/Zurich:20251208T190000
DTEND;TZID=Europe/Zurich:20251208T190000
DTSTAMP:20260423T102519
CREATED:20241023T075134Z
LAST-MODIFIED:20251001T070255Z
UID:2602-1765220400-1765220400@fgsiebnen.ch
SUMMARY:Gottesdienst
DESCRIPTION:Mariae Empfängnis Pfarrkirche 19.00 Uhr                                                                                                                                                                  anschliessend Adventsfeier im Pfarrsaal
URL:https://fgsiebnen.ch/veranstaltung/gottesdienst-2/
END:VEVENT
BEGIN:VEVENT
DTSTART;TZID=Europe/Zurich:20251203T093000
DTEND;TZID=Europe/Zurich:20251203T103000
DTSTAMP:20260423T102519
CREATED:20250820T081954Z
LAST-MODIFIED:20250820T081954Z
UID:3221-1764754200-1764757800@fgsiebnen.ch
SUMMARY:Krabbelgruppe
DESCRIPTION:Schnuppern ist jederzeit möglich. Bitte meldet euch vorgängig (auch spontan) per Whatsapp bei Simone Mayer (079 913 47 89) \nMittwochs (ungerade Kalenderwochen) von 09.30 – 10.30 Uhr \nKeine Treffen in den Schulferien oder an Feiertagen
URL:https://fgsiebnen.ch/veranstaltung/krabbelgruppe-7/
END:VEVENT
BEGIN:VEVENT
DTSTART;TZID=Europe/Zurich:20251126T140000
DTEND;TZID=Europe/Zurich:20251126T140000
DTSTAMP:20260423T102519
CREATED:20241127T085327Z
LAST-MODIFIED:20251022T064521Z
UID:2604-1764165600-1764165600@fgsiebnen.ch
SUMMARY:Lebkuchen verzieren
DESCRIPTION: 
URL:https://fgsiebnen.ch/veranstaltung/lebkuchen-verzieren/
LOCATION:Pfarrsaal katholische Kirche Siebnen
END:VEVENT
BEGIN:VEVENT
DTSTART;TZID=Europe/Zurich:20251120T090000
DTEND;TZID=Europe/Zurich:20251120T103000
DTSTAMP:20260423T102519
CREATED:20241023T074142Z
LAST-MODIFIED:20251001T070106Z
UID:2598-1763629200-1763634600@fgsiebnen.ch
SUMMARY:Morgengottesdienst mit Gedächtnisfeier
DESCRIPTION:Pfarrkirche 9.00 Uhr anschliessend Kaffee und Gipfeli im Pfarrsaal
URL:https://fgsiebnen.ch/veranstaltung/morgengottesdienst-mit-gedaechtnisfeier/
END:VEVENT
BEGIN:VEVENT
DTSTART;TZID=Europe/Zurich:20251119T093000
DTEND;TZID=Europe/Zurich:20251119T103000
DTSTAMP:20260423T102519
CREATED:20240920T071545Z
LAST-MODIFIED:20250820T081656Z
UID:2540-1763544600-1763548200@fgsiebnen.ch
SUMMARY:Krabbelgruppe
DESCRIPTION:Schnuppern ist jederzeit möglich. Bitte meldet euch vorgängig (auch spontan) per Whatsapp bei Simone Mayer (079 913 47 89) \nMittwochs (ungerade Kalenderwochen) von 09.30 – 10.30 Uhr \nKeine Treffen in den Schulferien oder an Feiertagen
URL:https://fgsiebnen.ch/veranstaltung/krabbelgruppe-4/
LOCATION:Pfarrsaal katholische Kirche Siebnen
END:VEVENT
BEGIN:VEVENT
DTSTART;TZID=Europe/Zurich:20251105T193000
DTEND;TZID=Europe/Zurich:20251105T220000
DTSTAMP:20260423T102519
CREATED:20251001T065606Z
LAST-MODIFIED:20251001T065606Z
UID:3343-1762371000-1762380000@fgsiebnen.ch
SUMMARY:Kino Abend
DESCRIPTION:zu Gast bei der Frauengemeinschaft Wangen \n19.30 im Vereinszimmer MZG Wangen \nAnmeldung bis 31.Oktober: Sonja Gschwend 079 384 46 43
URL:https://fgsiebnen.ch/veranstaltung/kino-abend-2/
END:VEVENT
BEGIN:VEVENT
DTSTART;TZID=Europe/Zurich:20251105T093000
DTEND;TZID=Europe/Zurich:20251105T103000
DTSTAMP:20260423T102519
CREATED:20240910T145503Z
LAST-MODIFIED:20250820T081315Z
UID:2433-1762335000-1762338600@fgsiebnen.ch
SUMMARY:Krabbelgruppe
DESCRIPTION:Schnuppern ist jederzeit möglich. Bitte meldet euch vorgängig (auch spontan) per Whatsapp bei Simone Mayer (079 913 47 89) \nMittwochs (ungerade Kalenderwochen) von 09.30 – 10.30 Uhr \nKeine Treffen in den Schulferien oder an Feiertagen
URL:https://fgsiebnen.ch/veranstaltung/krabbelgruppe/
LOCATION:Pfarrsaal katholische Kirche Siebnen
END:VEVENT
BEGIN:VEVENT
DTSTART;TZID=Europe/Zurich:20251104T190000
DTEND;TZID=Europe/Zurich:20251104T210000
DTSTAMP:20260423T102519
CREATED:20251001T065408Z
LAST-MODIFIED:20251023T083008Z
UID:3341-1762282800-1762290000@fgsiebnen.ch
SUMMARY:Adventskreationen
DESCRIPTION:Ausgebucht!
URL:https://fgsiebnen.ch/veranstaltung/adventskreationen/
LOCATION:Pfarrsaal katholische Kirche Siebnen
END:VEVENT
END:VCALENDAR