

BEGIN:VCALENDAR
VERSION:2.0
PRODID:-//Frauengemeinschaft Siebnen - ECPv6.15.15//NONSGML v1.0//EN
CALSCALE:GREGORIAN
METHOD:PUBLISH
X-WR-CALNAME:Frauengemeinschaft Siebnen
X-ORIGINAL-URL:https://fgsiebnen.ch
X-WR-CALDESC:Veranstaltungen für Frauengemeinschaft Siebnen
REFRESH-INTERVAL;VALUE=DURATION:PT1H
X-Robots-Tag:noindex
X-PUBLISHED-TTL:PT1H
BEGIN:VTIMEZONE
TZID:Europe/Zurich
BEGIN:DAYLIGHT
TZOFFSETFROM:+0100
TZOFFSETTO:+0200
TZNAME:CEST
DTSTART:20250330T010000
END:DAYLIGHT
BEGIN:STANDARD
TZOFFSETFROM:+0200
TZOFFSETTO:+0100
TZNAME:CET
DTSTART:20251026T010000
END:STANDARD
BEGIN:DAYLIGHT
TZOFFSETFROM:+0100
TZOFFSETTO:+0200
TZNAME:CEST
DTSTART:20260329T010000
END:DAYLIGHT
BEGIN:STANDARD
TZOFFSETFROM:+0200
TZOFFSETTO:+0100
TZNAME:CET
DTSTART:20261025T010000
END:STANDARD
BEGIN:DAYLIGHT
TZOFFSETFROM:+0100
TZOFFSETTO:+0200
TZNAME:CEST
DTSTART:20270328T010000
END:DAYLIGHT
BEGIN:STANDARD
TZOFFSETFROM:+0200
TZOFFSETTO:+0100
TZNAME:CET
DTSTART:20271031T010000
END:STANDARD
END:VTIMEZONE
BEGIN:VEVENT
DTSTART;VALUE=DATE:20261016
DTEND;VALUE=DATE:20261018
DTSTAMP:20260422T004101
CREATED:20240226T203951Z
LAST-MODIFIED:20260331T131004Z
UID:494-1792108800-1792281599@fgsiebnen.ch
SUMMARY:Kinderwaren- und Spielwarenbörse KIWABÖ
DESCRIPTION:Beachtet dazu unbedingt die Infos für VerkäuferInnen und HelferInnen auf Basarlino. \nWichtige Infos:\n\nNEU: Selbständiges Auslegen der Artikel durch die VerkäuferInnen\nAuslegung: 17:30 Uhr – 18:30 Uhr\nHelferInenn-Verkauf: Freitag\, 19:15 Uhr – 19:45 Uhr\nAbendverkauf: Freitag\, 20:00 Uhr – 21:30 Uhr (letzter Einlass: 21:20 Uhr)\nSamstagsverkauf: Samstag\, 09:00 Uhr – 10:30 Uhr (letzter Einlass: 10:20 Uhr)\nRückgabe der nicht verkauften Artikel: Samstag\, 12:30 Uhr – 13:00 Uhr\nAnmeldung: basarlino | Die Basar-Software\nAuskunft: info@kiwabo.ch
URL:https://fgsiebnen.ch/veranstaltung/kinder-und-spielwarenboerse/
LOCATION:Alte Turnhalle Stockbergschulhaus 2
END:VEVENT
END:VCALENDAR