

BEGIN:VCALENDAR
VERSION:2.0
PRODID:-//Frauengemeinschaft Siebnen - ECPv6.15.15//NONSGML v1.0//EN
CALSCALE:GREGORIAN
METHOD:PUBLISH
X-ORIGINAL-URL:https://fgsiebnen.ch
X-WR-CALDESC:Veranstaltungen für Frauengemeinschaft Siebnen
REFRESH-INTERVAL;VALUE=DURATION:PT1H
X-Robots-Tag:noindex
X-PUBLISHED-TTL:PT1H
BEGIN:VTIMEZONE
TZID:Europe/Zurich
BEGIN:DAYLIGHT
TZOFFSETFROM:+0100
TZOFFSETTO:+0200
TZNAME:CEST
DTSTART:20250330T010000
END:DAYLIGHT
BEGIN:STANDARD
TZOFFSETFROM:+0200
TZOFFSETTO:+0100
TZNAME:CET
DTSTART:20251026T010000
END:STANDARD
BEGIN:DAYLIGHT
TZOFFSETFROM:+0100
TZOFFSETTO:+0200
TZNAME:CEST
DTSTART:20260329T010000
END:DAYLIGHT
BEGIN:STANDARD
TZOFFSETFROM:+0200
TZOFFSETTO:+0100
TZNAME:CET
DTSTART:20261025T010000
END:STANDARD
BEGIN:DAYLIGHT
TZOFFSETFROM:+0100
TZOFFSETTO:+0200
TZNAME:CEST
DTSTART:20270328T010000
END:DAYLIGHT
BEGIN:STANDARD
TZOFFSETFROM:+0200
TZOFFSETTO:+0100
TZNAME:CET
DTSTART:20271031T010000
END:STANDARD
END:VTIMEZONE
BEGIN:VEVENT
DTSTART;TZID=Europe/Zurich:20260115T193000
DTEND;TZID=Europe/Zurich:20260115T230000
DTSTAMP:20260421T142733
CREATED:20241210T084336Z
LAST-MODIFIED:20251212T135626Z
UID:2687-1768505400-1768518000@fgsiebnen.ch
SUMMARY:Gottesdienst
DESCRIPTION:Pfarrkirche 19.30 Uhr anschliessend Spiel- und Jassabend im Pfarrsaal
URL:https://fgsiebnen.ch/veranstaltung/gottesdienst-3/
END:VEVENT
END:VCALENDAR