

BEGIN:VCALENDAR
VERSION:2.0
PRODID:-//Frauengemeinschaft Siebnen - ECPv6.15.15//NONSGML v1.0//EN
CALSCALE:GREGORIAN
METHOD:PUBLISH
X-WR-CALNAME:Frauengemeinschaft Siebnen
X-ORIGINAL-URL:https://fgsiebnen.ch
X-WR-CALDESC:Veranstaltungen für Frauengemeinschaft Siebnen
REFRESH-INTERVAL;VALUE=DURATION:PT1H
X-Robots-Tag:noindex
X-PUBLISHED-TTL:PT1H
BEGIN:VTIMEZONE
TZID:Europe/Zurich
BEGIN:DAYLIGHT
TZOFFSETFROM:+0100
TZOFFSETTO:+0200
TZNAME:CEST
DTSTART:20240331T010000
END:DAYLIGHT
BEGIN:STANDARD
TZOFFSETFROM:+0200
TZOFFSETTO:+0100
TZNAME:CET
DTSTART:20241027T010000
END:STANDARD
BEGIN:DAYLIGHT
TZOFFSETFROM:+0100
TZOFFSETTO:+0200
TZNAME:CEST
DTSTART:20250330T010000
END:DAYLIGHT
BEGIN:STANDARD
TZOFFSETFROM:+0200
TZOFFSETTO:+0100
TZNAME:CET
DTSTART:20251026T010000
END:STANDARD
BEGIN:DAYLIGHT
TZOFFSETFROM:+0100
TZOFFSETTO:+0200
TZNAME:CEST
DTSTART:20260329T010000
END:DAYLIGHT
BEGIN:STANDARD
TZOFFSETFROM:+0200
TZOFFSETTO:+0100
TZNAME:CET
DTSTART:20261025T010000
END:STANDARD
END:VTIMEZONE
BEGIN:VEVENT
DTSTART;TZID=Europe/Zurich:20251211T063000
DTEND;TZID=Europe/Zurich:20251211T063000
DTSTAMP:20260421T155349
CREATED:20241023T080115Z
LAST-MODIFIED:20251001T070338Z
UID:2606-1765434600-1765434600@fgsiebnen.ch
SUMMARY:Rorate Messe
DESCRIPTION:Pfarrkirche 6.30 Uhr \nanschliessend Frühstück im Pfarrsaal
URL:https://fgsiebnen.ch/veranstaltung/rorate-messe/
END:VEVENT
END:VCALENDAR