

BEGIN:VCALENDAR
VERSION:2.0
PRODID:-//Frauengemeinschaft Siebnen - ECPv6.15.15//NONSGML v1.0//EN
CALSCALE:GREGORIAN
METHOD:PUBLISH
X-WR-CALNAME:Frauengemeinschaft Siebnen
X-ORIGINAL-URL:https://fgsiebnen.ch
X-WR-CALDESC:Veranstaltungen für Frauengemeinschaft Siebnen
REFRESH-INTERVAL;VALUE=DURATION:PT1H
X-Robots-Tag:noindex
X-PUBLISHED-TTL:PT1H
BEGIN:VTIMEZONE
TZID:Europe/Zurich
BEGIN:DAYLIGHT
TZOFFSETFROM:+0100
TZOFFSETTO:+0200
TZNAME:CEST
DTSTART:20240331T010000
END:DAYLIGHT
BEGIN:STANDARD
TZOFFSETFROM:+0200
TZOFFSETTO:+0100
TZNAME:CET
DTSTART:20241027T010000
END:STANDARD
BEGIN:DAYLIGHT
TZOFFSETFROM:+0100
TZOFFSETTO:+0200
TZNAME:CEST
DTSTART:20250330T010000
END:DAYLIGHT
BEGIN:STANDARD
TZOFFSETFROM:+0200
TZOFFSETTO:+0100
TZNAME:CET
DTSTART:20251026T010000
END:STANDARD
BEGIN:DAYLIGHT
TZOFFSETFROM:+0100
TZOFFSETTO:+0200
TZNAME:CEST
DTSTART:20260329T010000
END:DAYLIGHT
BEGIN:STANDARD
TZOFFSETFROM:+0200
TZOFFSETTO:+0100
TZNAME:CET
DTSTART:20261025T010000
END:STANDARD
END:VTIMEZONE
BEGIN:VEVENT
DTSTART;VALUE=DATE:20251017
DTEND;VALUE=DATE:20251019
DTSTAMP:20260421T191701
CREATED:20240329T132210Z
LAST-MODIFIED:20251013T064605Z
UID:2104-1760659200-1760831999@fgsiebnen.ch
SUMMARY:Kinderwaren- und Spielwarenbörse
DESCRIPTION:Am 17. und 18. Oktober 2025 findet die Kinderwaren- und Spielwarenbörse  in der alten Turnhalle Stockbergschulhaus 2 statt. \nAnnahme: der angeschriebenen Artikel  Freitag\, 17. Oktober   17.00 – 18.00 Uhr \nVerkauf: Samstag\, 18. Oktober     9.00 – 12.00 Uhr \nRückgabe: Samstag\, 18. Oktober   16.00 – 16.30 Uhr \nAnmeldung: boersesiebnen@outlook.de \nAuskunft: Barbara Schättin 079 815 55 46   \nAnleitung Video
URL:https://fgsiebnen.ch/veranstaltung/kinderwaren-und-spielwarenboerse/
END:VEVENT
END:VCALENDAR